BEGIN:VCALENDAR
VERSION:2.0
PRODID:-//Brain Aneurysm Foundation - ECPv6.15.20//NONSGML v1.0//EN
CALSCALE:GREGORIAN
METHOD:PUBLISH
X-WR-CALNAME:Brain Aneurysm Foundation
X-ORIGINAL-URL:https://www.bafound.org
X-WR-CALDESC:Events for Brain Aneurysm Foundation
REFRESH-INTERVAL;VALUE=DURATION:PT1H
X-Robots-Tag:noindex
X-PUBLISHED-TTL:PT1H
BEGIN:VTIMEZONE
TZID:America/New_York
BEGIN:DAYLIGHT
TZOFFSETFROM:-0500
TZOFFSETTO:-0400
TZNAME:EDT
DTSTART:20230312T070000
END:DAYLIGHT
BEGIN:STANDARD
TZOFFSETFROM:-0400
TZOFFSETTO:-0500
TZNAME:EST
DTSTART:20231105T060000
END:STANDARD
BEGIN:DAYLIGHT
TZOFFSETFROM:-0500
TZOFFSETTO:-0400
TZNAME:EDT
DTSTART:20240310T070000
END:DAYLIGHT
BEGIN:STANDARD
TZOFFSETFROM:-0400
TZOFFSETTO:-0500
TZNAME:EST
DTSTART:20241103T060000
END:STANDARD
BEGIN:DAYLIGHT
TZOFFSETFROM:-0500
TZOFFSETTO:-0400
TZNAME:EDT
DTSTART:20250309T070000
END:DAYLIGHT
BEGIN:STANDARD
TZOFFSETFROM:-0400
TZOFFSETTO:-0500
TZNAME:EST
DTSTART:20251102T060000
END:STANDARD
BEGIN:DAYLIGHT
TZOFFSETFROM:-0500
TZOFFSETTO:-0400
TZNAME:EDT
DTSTART:20260308T070000
END:DAYLIGHT
BEGIN:STANDARD
TZOFFSETFROM:-0400
TZOFFSETTO:-0500
TZNAME:EST
DTSTART:20261101T060000
END:STANDARD
END:VTIMEZONE
BEGIN:VEVENT
DTSTART;TZID=America/New_York:20250920T090000
DTEND;TZID=America/New_York:20250920T130000
DTSTAMP:20260421T060513
CREATED:20250113T190021Z
LAST-MODIFIED:20250915T172119Z
UID:10001447-1758358800-1758373200@www.bafound.org
SUMMARY:2025 Annual Austen's Communitas Walk
DESCRIPTION:Event Details\nJoin us for the Annual Austen’s Communitas Walk \nRegistration 9:00AM | Walk 10:00AM \nRegistration is $35\nFundraising is not required but encouraged! Individuals who fundraise $100 (inclusive of the registration fee) by August 22nd will receive a t-shirt at the event. We encourage everyone to register in advance\, however walk-ins will be welcome.
URL:https://www.bafound.org/events/2025-annual-austens-communitas-walk-2/
LOCATION:Memorial Park\, Kenmore Avenue\, Fredericksburg\, Virginia\, 22401\, United States
CATEGORIES:Event
ATTACH;FMTTYPE=image/jpeg:https://www.bafound.org/wp-content/uploads/2023/05/Austens_Event-thumbnail_23.jpg
ORGANIZER;CN="Susie Frost":MAILTO:susie@bafound.org
GEO:38.3053327;-77.4697654
X-APPLE-STRUCTURED-LOCATION;VALUE=URI;X-ADDRESS=Memorial Park Kenmore Avenue Fredericksburg Virginia 22401 United States;X-APPLE-RADIUS=500;X-TITLE=Kenmore Avenue:geo:-77.4697654,38.3053327
END:VEVENT
BEGIN:VEVENT
DTSTART;TZID=America/New_York:20240921T090000
DTEND;TZID=America/New_York:20240921T120000
DTSTAMP:20260421T060513
CREATED:20240613T190845Z
LAST-MODIFIED:20240626T184530Z
UID:10000075-1726909200-1726920000@www.bafound.org
SUMMARY:7th Annual Austen’s Communitas 5K Walk
DESCRIPTION:The Austen’s Communitas event supports the Brain Aneurysm Foundation with the funds to continue to create education and awareness materials\, run support groups nationwide\, and enables the brightest minds in the neurological field to continue their vital research. The generosity of participants\, donors\, sponsors and volunteers of this event\, contribute to our mission to help save lives and improve outcomes for survivors. \nTIME\nRegistration: 9AM \nLOCATION\nMemorial Park – 1401 Kenmore Ave\, Fredericksburg\, VA
URL:https://www.bafound.org/events/7th-annual-austens-communitas-5k-walk/
LOCATION:Memorial Park\, Kenmore Avenue\, Fredericksburg\, Virginia\, 22401\, United States
CATEGORIES:Event
ATTACH;FMTTYPE=image/jpeg:https://www.bafound.org/wp-content/uploads/2024/06/Austin_Event-thumbnail_24.jpg
GEO:38.3053327;-77.4697654
X-APPLE-STRUCTURED-LOCATION;VALUE=URI;X-ADDRESS=Memorial Park Kenmore Avenue Fredericksburg Virginia 22401 United States;X-APPLE-RADIUS=500;X-TITLE=Kenmore Avenue:geo:-77.4697654,38.3053327
END:VEVENT
END:VCALENDAR