BEGIN:VCALENDAR
VERSION:2.0
PRODID:-//Brain Aneurysm Foundation - ECPv6.15.20//NONSGML v1.0//EN
CALSCALE:GREGORIAN
METHOD:PUBLISH
X-WR-CALNAME:Brain Aneurysm Foundation
X-ORIGINAL-URL:https://www.bafound.org
X-WR-CALDESC:Events for Brain Aneurysm Foundation
REFRESH-INTERVAL;VALUE=DURATION:PT1H
X-Robots-Tag:noindex
X-PUBLISHED-TTL:PT1H
BEGIN:VTIMEZONE
TZID:America/Los_Angeles
BEGIN:DAYLIGHT
TZOFFSETFROM:-0800
TZOFFSETTO:-0700
TZNAME:PDT
DTSTART:20240310T100000
END:DAYLIGHT
BEGIN:STANDARD
TZOFFSETFROM:-0700
TZOFFSETTO:-0800
TZNAME:PST
DTSTART:20241103T090000
END:STANDARD
BEGIN:DAYLIGHT
TZOFFSETFROM:-0800
TZOFFSETTO:-0700
TZNAME:PDT
DTSTART:20250309T100000
END:DAYLIGHT
BEGIN:STANDARD
TZOFFSETFROM:-0700
TZOFFSETTO:-0800
TZNAME:PST
DTSTART:20251102T090000
END:STANDARD
BEGIN:DAYLIGHT
TZOFFSETFROM:-0800
TZOFFSETTO:-0700
TZNAME:PDT
DTSTART:20260308T100000
END:DAYLIGHT
BEGIN:STANDARD
TZOFFSETFROM:-0700
TZOFFSETTO:-0800
TZNAME:PST
DTSTART:20261101T090000
END:STANDARD
END:VTIMEZONE
BEGIN:VEVENT
DTSTART;TZID=America/Los_Angeles:20250409T180000
DTEND;TZID=America/Los_Angeles:20250409T193000
DTSTAMP:20260424T072657
CREATED:20250206T213434Z
LAST-MODIFIED:20250212T202527Z
UID:10001473-1744221600-1744227000@www.bafound.org
SUMMARY:Brain Aneurysm and AVM Support Group\, Newport Beach\, CA
DESCRIPTION:2nd Wednesday of every month \n\n\n  \n\n\n\nA support group for those diagnosed or treated for an aneurysm or arteriovenous malformations (AVM) of the brain has been formed. \nWho should attend? Survivors\, immediate family members or caregivers\, those diagnosed\, but not yet ready for treatment. \nWhen\nAll meetings are held at 6:00PM – 7:30 PDT on the 2nd Wednesday of every month \nWe are both In-Person and Virtual\nHoag Memorial Hospital Presbyterian\nHoag Conference Center\nOne Hoag Drive\nNewport Beach\, CA  92658\n \nFor more information and to RSVP\, please call or email\nMonica Jones\nmonica.jones@hoag.org\n949-764-3628 \nAdditional Contact:\nVictoria Tomczak\nvictoria.tomczak@hoag.org\n949-764-8273
URL:https://www.bafound.org/events/brain-aneurysm-and-avm-support-group-newport-beach-ca-2/2025-04-09/
LOCATION:Hoag Memorial Hospital Presbyterian\, Hoag Drive\, Newport Beach\, CA\, 92663\, United States
CATEGORIES:Support Groups
ORGANIZER;CN="Monica Jones":MAILTO:monica.jones@hoag.org
GEO:33.6222676;-117.9331541
X-APPLE-STRUCTURED-LOCATION;VALUE=URI;X-ADDRESS=Hoag Memorial Hospital Presbyterian Hoag Drive Newport Beach CA 92663 United States;X-APPLE-RADIUS=500;X-TITLE=Hoag Drive:geo:-117.9331541,33.6222676
END:VEVENT
BEGIN:VEVENT
DTSTART;TZID=America/Los_Angeles:20250312T180000
DTEND;TZID=America/Los_Angeles:20250312T193000
DTSTAMP:20260424T072657
CREATED:20250206T213434Z
LAST-MODIFIED:20250212T202527Z
UID:10001506-1741802400-1741807800@www.bafound.org
SUMMARY:Brain Aneurysm and AVM Support Group\, Newport Beach\, CA
DESCRIPTION:2nd Wednesday of every month \n\n\n  \n\n\n\nA support group for those diagnosed or treated for an aneurysm or arteriovenous malformations (AVM) of the brain has been formed. \nWho should attend? Survivors\, immediate family members or caregivers\, those diagnosed\, but not yet ready for treatment. \nWhen\nAll meetings are held at 6:00PM – 7:30 PDT on the 2nd Wednesday of every month \nWe are both In-Person and Virtual\nHoag Memorial Hospital Presbyterian\nHoag Conference Center\nOne Hoag Drive\nNewport Beach\, CA  92658\n \nFor more information and to RSVP\, please call or email\nMonica Jones\nmonica.jones@hoag.org\n949-764-3628 \nAdditional Contact:\nVictoria Tomczak\nvictoria.tomczak@hoag.org\n949-764-8273
URL:https://www.bafound.org/events/brain-aneurysm-and-avm-support-group-newport-beach-ca-2/2025-03-12/
LOCATION:Hoag Memorial Hospital Presbyterian\, Hoag Drive\, Newport Beach\, CA\, 92663\, United States
CATEGORIES:Support Groups
ORGANIZER;CN="Monica Jones":MAILTO:monica.jones@hoag.org
GEO:33.6222676;-117.9331541
X-APPLE-STRUCTURED-LOCATION;VALUE=URI;X-ADDRESS=Hoag Memorial Hospital Presbyterian Hoag Drive Newport Beach CA 92663 United States;X-APPLE-RADIUS=500;X-TITLE=Hoag Drive:geo:-117.9331541,33.6222676
END:VEVENT
BEGIN:VEVENT
DTSTART;TZID=America/Los_Angeles:20250212T180000
DTEND;TZID=America/Los_Angeles:20250212T193000
DTSTAMP:20260424T072657
CREATED:20250206T213434Z
LAST-MODIFIED:20250212T202527Z
UID:10000734-1739383200-1739388600@www.bafound.org
SUMMARY:Brain Aneurysm and AVM Support Group\, Newport Beach\, CA
DESCRIPTION:2nd Wednesday of every month \n\n\n  \n\n\n\nA support group for those diagnosed or treated for an aneurysm or arteriovenous malformations (AVM) of the brain has been formed. \nWho should attend? Survivors\, immediate family members or caregivers\, those diagnosed\, but not yet ready for treatment. \nWhen\nAll meetings are held at 6:00PM – 7:30 PDT on the 2nd Wednesday of every month \nWe are both In-Person and Virtual\nHoag Memorial Hospital Presbyterian\nHoag Conference Center\nOne Hoag Drive\nNewport Beach\, CA  92658\n \nFor more information and to RSVP\, please call or email\nMonica Jones\nmonica.jones@hoag.org\n949-764-3628 \nAdditional Contact:\nVictoria Tomczak\nvictoria.tomczak@hoag.org\n949-764-8273
URL:https://www.bafound.org/events/brain-aneurysm-and-avm-support-group-newport-beach-ca-2/2025-02-12/
LOCATION:Hoag Memorial Hospital Presbyterian\, Hoag Drive\, Newport Beach\, CA\, 92663\, United States
CATEGORIES:Support Groups
ORGANIZER;CN="Monica Jones":MAILTO:monica.jones@hoag.org
GEO:33.6222676;-117.9331541
X-APPLE-STRUCTURED-LOCATION;VALUE=URI;X-ADDRESS=Hoag Memorial Hospital Presbyterian Hoag Drive Newport Beach CA 92663 United States;X-APPLE-RADIUS=500;X-TITLE=Hoag Drive:geo:-117.9331541,33.6222676
END:VEVENT
END:VCALENDAR